BEGIN:VCALENDAR
VERSION:2.0
PRODID:Events Booking
BEGIN:VEVENT
UID:69e736fe37af4
SUMMARY:5. Längenfelder Kaufmarkt
DESCRIPTION:
LOCATION:Gemeinde Längenfeld\, 6444 Tirol\, Österreich
DTSTART:20260411T090000Z
DTSTAMP:20260302T083035Z
ORGANIZER;CN=Längenfeld:MAILTO:gemeinde@laengenfeld.gv.at
GEO:47.070234;10.970441
X-APPLE-STRUCTURED-LOCATION;VALUE=URI;X-ADDRESS=Gemeinde Längenfeld\, 6444
  Tirol\, Österreich;X-APPLE-RADIUS=72;X-TITLE=Gemeindesaal:47.070234;10.9
 70441
END:VEVENT
END:VCALENDAR