BEGIN:VCALENDAR
VERSION:2.0
PRODID:Events Booking
BEGIN:VEVENT
UID:69e7359aee8e8
SUMMARY:Advent im Ötztal
DESCRIPTION:
DTSTART:20241214T170000Z
DTSTAMP:20241129T094442Z
ORGANIZER;CN=Längenfeld:MAILTO:gemeinde@laengenfeld.gv.at
END:VEVENT
END:VCALENDAR